BEGIN:VCALENDAR
VERSION:2.0
PRODID:-//BioAlai - ECPv6.15.10//NONSGML v1.0//EN
CALSCALE:GREGORIAN
METHOD:PUBLISH
X-ORIGINAL-URL:https://www.bioalai.org
X-WR-CALDESC:Eventos para BioAlai
REFRESH-INTERVAL;VALUE=DURATION:PT1H
X-Robots-Tag:noindex
X-PUBLISHED-TTL:PT1H
BEGIN:VTIMEZONE
TZID:Europe/Paris
BEGIN:DAYLIGHT
TZOFFSETFROM:+0100
TZOFFSETTO:+0200
TZNAME:CEST
DTSTART:20190331T010000
END:DAYLIGHT
BEGIN:STANDARD
TZOFFSETFROM:+0200
TZOFFSETTO:+0100
TZNAME:CET
DTSTART:20191027T010000
END:STANDARD
BEGIN:DAYLIGHT
TZOFFSETFROM:+0100
TZOFFSETTO:+0200
TZNAME:CEST
DTSTART:20200329T010000
END:DAYLIGHT
BEGIN:STANDARD
TZOFFSETFROM:+0200
TZOFFSETTO:+0100
TZNAME:CET
DTSTART:20201025T010000
END:STANDARD
BEGIN:DAYLIGHT
TZOFFSETFROM:+0100
TZOFFSETTO:+0200
TZNAME:CEST
DTSTART:20210328T010000
END:DAYLIGHT
BEGIN:STANDARD
TZOFFSETFROM:+0200
TZOFFSETTO:+0100
TZNAME:CET
DTSTART:20211031T010000
END:STANDARD
END:VTIMEZONE
BEGIN:VEVENT
DTSTART;TZID=Europe/Paris:20201217T170000
DTEND;TZID=Europe/Paris:20201217T183000
DTSTAMP:20260424T141648
CREATED:20201207T102721Z
LAST-MODIFIED:20201207T102722Z
UID:2825-1608224400-1608229800@www.bioalai.org
SUMMARY:Curso de Cocina Natural y Energética (1er turno)
DESCRIPTION:Podéis inscribiros vía email en: info@martafrancisco.como en el teléfono (Marta): 626756062 (sms/whatsapp) \n\n\n\nPolítica de cancelación (hasta dos días antes del taller\, en caso contrario se cobrará)
URL:https://www.bioalai.org/actividad/curso-de-cocina-natural-y-energetica-1er-turno/
END:VEVENT
BEGIN:VEVENT
DTSTART;TZID=Europe/Paris:20201217T191500
DTEND;TZID=Europe/Paris:20201217T204500
DTSTAMP:20260424T141648
CREATED:20201207T102909Z
LAST-MODIFIED:20201207T102954Z
UID:2829-1608232500-1608237900@www.bioalai.org
SUMMARY:Curso de Cocina (2º turno)
DESCRIPTION:
URL:https://www.bioalai.org/actividad/curso-de-cocina-2o-turno/
END:VEVENT
END:VCALENDAR