BEGIN:VCALENDAR
VERSION:2.0
PRODID:-//BioAlai - ECPv6.15.10//NONSGML v1.0//EN
CALSCALE:GREGORIAN
METHOD:PUBLISH
X-WR-CALNAME:BioAlai
X-ORIGINAL-URL:https://www.bioalai.org
X-WR-CALDESC:Eventos para BioAlai
REFRESH-INTERVAL;VALUE=DURATION:PT1H
X-Robots-Tag:noindex
X-PUBLISHED-TTL:PT1H
BEGIN:VTIMEZONE
TZID:Europe/Paris
BEGIN:DAYLIGHT
TZOFFSETFROM:+0100
TZOFFSETTO:+0200
TZNAME:CEST
DTSTART:20190331T010000
END:DAYLIGHT
BEGIN:STANDARD
TZOFFSETFROM:+0200
TZOFFSETTO:+0100
TZNAME:CET
DTSTART:20191027T010000
END:STANDARD
BEGIN:DAYLIGHT
TZOFFSETFROM:+0100
TZOFFSETTO:+0200
TZNAME:CEST
DTSTART:20200329T010000
END:DAYLIGHT
BEGIN:STANDARD
TZOFFSETFROM:+0200
TZOFFSETTO:+0100
TZNAME:CET
DTSTART:20201025T010000
END:STANDARD
BEGIN:DAYLIGHT
TZOFFSETFROM:+0100
TZOFFSETTO:+0200
TZNAME:CEST
DTSTART:20210328T010000
END:DAYLIGHT
BEGIN:STANDARD
TZOFFSETFROM:+0200
TZOFFSETTO:+0100
TZNAME:CET
DTSTART:20211031T010000
END:STANDARD
END:VTIMEZONE
BEGIN:VEVENT
DTSTART;TZID=Europe/Paris:20201128T110000
DTEND;TZID=Europe/Paris:20201128T123000
DTSTAMP:20260424T155714
CREATED:20201119T133207Z
LAST-MODIFIED:20201119T134508Z
UID:2523-1606561200-1606566600@www.bioalai.org
SUMMARY:Curso de Cocina Natural y Energética (1er turno)
DESCRIPTION:A partir de de octubre tenemos CAMBIOS en los Cursos de Cocina Natural y Energética \n\n\n\n-Duplicamos sesión pero con horario reducido.Para mantener unos aforos más ajustados pero que podáis seguir asistiendo todas las personas interesadas hemos reformulado los cursos.Podréis elegir entre dos turnos\, así garantizamos cumplir con las medidas de higiene\, distancia\, etcPara que esta organización funcione nos vamos a ceñir bien a los horarios de entrada y salida… ¡seremos muy puntuales!Se elimina también el tiempo de degustación pero podrás traer algún recipiente para llevar a casa y probar. \n\n\n\n-Los pagos e inscripciones se realizarán a través de Marta Francisco (NO a través de BioAlai)Podéis inscribiros vía email en: info@martafrancisco.como en el teléfono: 626756062 (Marta) \n\n\n\nAsí mismo se mantiene la política de cancelación (hasta dos días antes del taller\, en caso contrario se cobrará)\, también avisando a Marta por los canales anteriores
URL:https://www.bioalai.org/actividad/curso-de-cocina-natural-y-energetica-primer-turno/
END:VEVENT
BEGIN:VEVENT
DTSTART;TZID=Europe/Paris:20201128T131500
DTEND;TZID=Europe/Paris:20201128T144500
DTSTAMP:20260424T155714
CREATED:20201119T134039Z
LAST-MODIFIED:20201119T134040Z
UID:2530-1606569300-1606574700@www.bioalai.org
SUMMARY:Curso de Cocina Natural y Energética (2º turno)
DESCRIPTION:-Duplicamos sesión pero con horario reducido.Para mantener unos aforos más ajustados pero que podáis seguir asistiendo todas las personas interesadas hemos reformulado los cursos.Podréis elegir entre dos turnos\, así garantizamos cumplir con las medidas de higiene\, distancia\, etcPara que esta organización funcione nos vamos a ceñir bien a los horarios de entrada y salida… ¡seremos muy puntuales!Se elimina también el tiempo de degustación pero podrás traer algún recipiente para llevar a casa y probar. \n\n\n\n-Los pagos e inscripciones se realizarán a través de Marta Francisco (NO a través de BioAlai)Podéis inscribiros vía email en: info@martafrancisco.como en el teléfono: 626756062 (Marta) \n\n\n\nAsí mismo se mantiene la política de cancelación (hasta dos días antes del taller\, en caso contrario se cobrará)\, también avisando a Marta por los canales anteriores
URL:https://www.bioalai.org/actividad/curso-de-cocina-natural-y-energetica-2o-turno/
END:VEVENT
END:VCALENDAR