BEGIN:VCALENDAR
VERSION:2.0
PRODID:-//BioAlai - ECPv6.15.10//NONSGML v1.0//EN
CALSCALE:GREGORIAN
METHOD:PUBLISH
X-ORIGINAL-URL:https://www.bioalai.org
X-WR-CALDESC:Eventos para BioAlai
REFRESH-INTERVAL;VALUE=DURATION:PT1H
X-Robots-Tag:noindex
X-PUBLISHED-TTL:PT1H
BEGIN:VTIMEZONE
TZID:Europe/Paris
BEGIN:DAYLIGHT
TZOFFSETFROM:+0100
TZOFFSETTO:+0200
TZNAME:CEST
DTSTART:20190331T010000
END:DAYLIGHT
BEGIN:STANDARD
TZOFFSETFROM:+0200
TZOFFSETTO:+0100
TZNAME:CET
DTSTART:20191027T010000
END:STANDARD
BEGIN:DAYLIGHT
TZOFFSETFROM:+0100
TZOFFSETTO:+0200
TZNAME:CEST
DTSTART:20200329T010000
END:DAYLIGHT
BEGIN:STANDARD
TZOFFSETFROM:+0200
TZOFFSETTO:+0100
TZNAME:CET
DTSTART:20201025T010000
END:STANDARD
BEGIN:DAYLIGHT
TZOFFSETFROM:+0100
TZOFFSETTO:+0200
TZNAME:CEST
DTSTART:20210328T010000
END:DAYLIGHT
BEGIN:STANDARD
TZOFFSETFROM:+0200
TZOFFSETTO:+0100
TZNAME:CET
DTSTART:20211031T010000
END:STANDARD
END:VTIMEZONE
BEGIN:VEVENT
DTSTART;TZID=Europe/Paris:20201028T183000
DTEND;TZID=Europe/Paris:20201028T203000
DTSTAMP:20260424T175535
CREATED:20201014T114422Z
LAST-MODIFIED:20201015T115928Z
UID:1989-1603909800-1603917000@www.bioalai.org
SUMMARY:Charla Cómo favorecer el sistema inmunitario desde un enfoque biológico y nutricional
DESCRIPTION:Miércoles 28 de octubre\, de 17:30 a 19:30\, online. Acceso libre\, NO es necesario inscribirse. \n\n\n\nImpartida por el socio Javier Arocena\, biólogo y experto en Nutrición. \n\n\n\nLicenciado en Ciencias Biológicas y Diplomado en Medicina natural. Titulado por la Universidad de Navarra en “Curso Superior de Alimentación y Salud». Memoria de Investigación: “Recuperación de la Dieta Mediterránea”. Dirige la Casa-Taller SALUZ de Treviño.
URL:https://www.bioalai.org/actividad/charla-como-favorecer-el-sistema-inmunitario-desde-un-enfoque-biologico-y-nutricional/
END:VEVENT
BEGIN:VEVENT
DTSTART;TZID=Europe/Paris:20201030T170000
DTEND;TZID=Europe/Paris:20201030T183000
DTSTAMP:20260424T175535
CREATED:20201015T071952Z
LAST-MODIFIED:20201015T073126Z
UID:1997-1604077200-1604082600@www.bioalai.org
SUMMARY:Curso de Cocina Natural y Energética: primer turno
DESCRIPTION:A partir de de octubre tenemos CAMBIOS en los Cursos de Cocina Natural y Energética \n\n\n\n-Duplicamos sesión pero con horario reducido.Para mantener unos aforos más ajustados pero que podáis seguir asistiendo todas las personas interesadas hemos reformulado los cursos.Podréis elegir entre dos turnos: de 16 a 17h30 y de 18h30 a 20h\, así garantizamos cumplir con las medidas de higiene\, distancia\, etcPara que esta organización funcione nos vamos a ceñir bien a los horarios de entrada y salida… ¡seremos muy puntuales!Se elimina también el tiempo de degustación pero podrás traer algún recipiente para llevar a casa y probar. \n\n\n\n-Los pagos e inscripciones se realizarán a través de Marta Francisco (NO a través de BioAlai)Podéis inscribiros vía email en: info@martafrancisco.como en el teléfono: 626756062 (Marta)Así mismo se mantiene la política de cancelación (hasta dos días antes del taller\, en caso contrario se cobrará)\, también avisando a Marta por los canales anteriores \n\n\n\n-Vamos adaptando los formatos de cursos para dar con soluciones que funcionen para todas\, ¡coméntanos tus inquietudes!
URL:https://www.bioalai.org/actividad/cursos-de-cocina-natural-y-energetica/
END:VEVENT
BEGIN:VEVENT
DTSTART;TZID=Europe/Paris:20201030T190000
DTEND;TZID=Europe/Paris:20201030T203000
DTSTAMP:20260424T175535
CREATED:20201015T072357Z
LAST-MODIFIED:20201015T072358Z
UID:2001-1604084400-1604089800@www.bioalai.org
SUMMARY:Curso de Cocina Natural y Energética: segundo turno
DESCRIPTION:-Duplicamos sesión pero con horario reducido.Para mantener unos aforos más ajustados pero que podáis seguir asistiendo todas las personas interesadas hemos reformulado los cursos.Podréis elegir entre dos turnos: de 16 a 17h30 y de 18h30 a 20h\, así garantizamos cumplir con las medidas de higiene\, distancia\, etcPara que esta organización funcione nos vamos a ceñir bien a los horarios de entrada y salida… ¡seremos muy puntuales!Se elimina también el tiempo de degustación pero podrás traer algún recipiente para llevar a casa y probar. \n\n\n\n-Los pagos e inscripciones se realizarán a través de Marta Francisco (NO a través de BioAlai)Podéis inscribiros vía email en: info@martafrancisco.como en el teléfono: 626756062 (Marta)Así mismo se mantiene la política de cancelación (hasta dos días antes del taller\, en caso contrario se cobrará)\, también avisando a Marta por los canales anteriores
URL:https://www.bioalai.org/actividad/curso-de-cocina-natural-y-energetica-segundo-turno/
END:VEVENT
END:VCALENDAR